BEGIN:VCALENDAR
VERSION:2.0
PRODID:-//Freie Wähler Baden-Württemberg - ECPv6.15.20//NONSGML v1.0//EN
CALSCALE:GREGORIAN
METHOD:PUBLISH
X-ORIGINAL-URL:https://freiewaehler-bw.de
X-WR-CALDESC:Veranstaltungen für Freie Wähler Baden-Württemberg
REFRESH-INTERVAL;VALUE=DURATION:PT1H
X-Robots-Tag:noindex
X-PUBLISHED-TTL:PT1H
BEGIN:VTIMEZONE
TZID:Europe/Berlin
BEGIN:DAYLIGHT
TZOFFSETFROM:+0100
TZOFFSETTO:+0200
TZNAME:CEST
DTSTART:20230326T010000
END:DAYLIGHT
BEGIN:STANDARD
TZOFFSETFROM:+0200
TZOFFSETTO:+0100
TZNAME:CET
DTSTART:20231029T010000
END:STANDARD
BEGIN:DAYLIGHT
TZOFFSETFROM:+0100
TZOFFSETTO:+0200
TZNAME:CEST
DTSTART:20240331T010000
END:DAYLIGHT
BEGIN:STANDARD
TZOFFSETFROM:+0200
TZOFFSETTO:+0100
TZNAME:CET
DTSTART:20241027T010000
END:STANDARD
BEGIN:DAYLIGHT
TZOFFSETFROM:+0100
TZOFFSETTO:+0200
TZNAME:CEST
DTSTART:20250330T010000
END:DAYLIGHT
BEGIN:STANDARD
TZOFFSETFROM:+0200
TZOFFSETTO:+0100
TZNAME:CET
DTSTART:20251026T010000
END:STANDARD
END:VTIMEZONE
BEGIN:VEVENT
DTSTART;TZID=Europe/Berlin:20241204T190000
DTEND;TZID=Europe/Berlin:20241204T193000
DTSTAMP:20260422T200927
CREATED:20241121T093813Z
LAST-MODIFIED:20241121T093813Z
UID:9516-1733338800-1733340600@freiewaehler-bw.de
SUMMARY:FREIE WÄHLER BTW 2025 Nominierungsveranstaltung Wahlkreis 266 - Neckar-Zaber
DESCRIPTION:Wir laden alle Mitglieder des Wahlkreises 266 – Neckar-Zaber herzlich zur Nominierungsveranstaltung für die Bundestagswahl ein. Sie findet am Mittwoch\, den 04. Dezember 2024 um 19:00 Uhr im Häußermanns Ochsen\, König-Wilhelm-Straße 31\nin 74360 Ilsfeld\, statt. \n 
URL:https://freiewaehler-bw.de/event/freie-waehler-btw-2025-nominierungsveranstaltung-wahlkreis-266-neckar-zaber
LOCATION:Häußermanns Ochsen\, König-Wilhelm-Straße 31\, Ilsfeld\, 74360
CATEGORIES:Nominierungsversammlung
END:VEVENT
BEGIN:VEVENT
DTSTART;TZID=Europe/Berlin:20241205T190000
DTEND;TZID=Europe/Berlin:20241205T200000
DTSTAMP:20260422T200927
CREATED:20241121T094330Z
LAST-MODIFIED:20241128T065257Z
UID:9518-1733425200-1733428800@freiewaehler-bw.de
SUMMARY:FREIE WÄHLER BTW 2025 Nominierungsveranstaltung Wahlkreis 262 - Nürtingen
DESCRIPTION:Wir laden herzlich alle Mitglieder des Wahlkreises 262 – Nürtingen zur Nominierungsveranstaltung für die Bundestagswahl 2025 ein. Sie findet am Donnerstag\, den 05. Dezember 2024 um 19:00 Uhr in der Firma Wendel Elektro – und Anlagentechnik GmbH & Co. KG\, Mörikestraße 58 in 70794 Filderstatt\, statt.
URL:https://freiewaehler-bw.de/event/freie-waehler-btw-2025-nominierungsveranstaltung-wahlkreis-262-nuertingen
LOCATION:Wendel Elektro – und Anlagentechnik GmbH & Co. KG\, Mörikestraße 58\, Filderstadt\, 70794
CATEGORIES:Nominierungsversammlung
END:VEVENT
BEGIN:VEVENT
DTSTART;TZID=Europe/Berlin:20241207T180000
DTEND;TZID=Europe/Berlin:20241207T190000
DTSTAMP:20260422T200927
CREATED:20241128T064120Z
LAST-MODIFIED:20241128T064120Z
UID:9536-1733594400-1733598000@freiewaehler-bw.de
SUMMARY:FREIE WÄHLER BTW 2025 Nominierungsveranstaltung Wahlkreis 264 - Waiblingen
DESCRIPTION:Wir laden herzlich alle Mitglieder des Wahlkreises 264 – Waiblingen zur Nominierungsveranstaltung für die Bundestagswahl 2025 ein. Sie findet am Samstag\, den 07. Dezember 2024 um 18:00 Uhr im Weingut Kuhnle\, Hauptstraße 49 in 71384 Weinstadt\, statt.
URL:https://freiewaehler-bw.de/event/freie-waehler-btw-2025-nominierungsveranstaltung-wahlkreis-264-waiblingen
LOCATION:Weingut Kuhnle\, Hauptstraße 49\, Weinstadt\, 71384
CATEGORIES:Nominierungsversammlung
END:VEVENT
BEGIN:VEVENT
DTSTART;TZID=Europe/Berlin:20241207T183000
DTEND;TZID=Europe/Berlin:20241207T193000
DTSTAMP:20260422T200927
CREATED:20241128T063653Z
LAST-MODIFIED:20241128T063653Z
UID:9533-1733596200-1733599800@freiewaehler-bw.de
SUMMARY:FREIE WÄHLER BTW 2025 Nominierungsveranstaltung Wahlkreis 263 - Göppingen
DESCRIPTION:Wir laden herzlich alle Mitglieder des Wahlkreises 263 – Göppingen zur Nominierungsveranstaltung für die Bundestagswahl 2025 ein. Sie findet am Samstag\, den 07. Dezember 2024 um 18:30 Uhr in das Weingut Kuhnle\, Hauptstraße 49 in 71384 Weinstadt\, statt.
URL:https://freiewaehler-bw.de/event/freie-waehler-btw-2025-nominierungsveranstaltung-wahlkreis-263-goeppingen
LOCATION:Weingut Kuhnle\, Hauptstraße 49\, Weinstadt\, 71384
CATEGORIES:Nominierungsversammlung
END:VEVENT
BEGIN:VEVENT
DTSTART;TZID=Europe/Berlin:20241208T180000
DTEND;TZID=Europe/Berlin:20241208T190000
DTSTAMP:20260422T200927
CREATED:20241128T064552Z
LAST-MODIFIED:20241128T064552Z
UID:9538-1733680800-1733684400@freiewaehler-bw.de
SUMMARY:FREIE WÄHLER BTW 2025 Nominierungsveranstaltung Wahlkreis 289 - Reutlingen
DESCRIPTION:Wir laden herzlich alle Mitglieder des Wahlkreises 289 – Reutlingen zur Nominierungsveranstaltung für die Bundestagswahl 2025 ein. Sie findet am Sonntag\, den 08. Dezember 2024 um 18:00 Uhr im Hotel Fortuna\, Carl-Zeiss-Straße 75 in 72770 Reutlingen\, statt.
URL:https://freiewaehler-bw.de/event/freie-waehler-btw-2025-nominierungsveranstaltung-wahlkreis-289-reutlingen
LOCATION:Hotel Fortuna\, Carl-Zeiss-Straße 75\, Reutlingen\, 72770
CATEGORIES:Nominierungsversammlung
END:VEVENT
BEGIN:VEVENT
DTSTART;TZID=Europe/Berlin:20241209T190000
DTEND;TZID=Europe/Berlin:20241209T210000
DTSTAMP:20260422T200927
CREATED:20241210T061806Z
LAST-MODIFIED:20241210T061806Z
UID:9582-1733770800-1733778000@freiewaehler-bw.de
SUMMARY:Arbeitskreis "Ländlicher Raum"
DESCRIPTION:Die nächste turnusmäßige Online-Sitzung des Arbeitskreises (AK) „Ländlicher Raum“ findet am Montag\, den 09. Dezember 2024 um 19:00 Uhr statt. Die Zugangsdaten für Interessierte sind über die Geschäftsstelle zu erhalten.
URL:https://freiewaehler-bw.de/event/arbeitskreis-laendlicher-raum-3
LOCATION:Online
CATEGORIES:Arbeitskreise
END:VEVENT
BEGIN:VEVENT
DTSTART;TZID=Europe/Berlin:20241209T193000
DTEND;TZID=Europe/Berlin:20241209T203000
DTSTAMP:20260422T200927
CREATED:20241128T065842Z
LAST-MODIFIED:20241128T065842Z
UID:9545-1733772600-1733776200@freiewaehler-bw.de
SUMMARY:FREIE WÄHLER BTW 2025 Nominierungsveranstaltung Wahlkreis 280 - Calw
DESCRIPTION:Wir laden herzlich alle Mitglieder des Wahlkreises 280 – Calw zur Nominierungsveranstaltung für die Bundestagswahl 2025 ein. Sie findet am Montag\, den 09. Dezember 2024 um 19:30 Uhr im Bürgertreff im Rathaus\, Im Klösterle 4 in 75365 Calw-Holzbronn\, statt.
URL:https://freiewaehler-bw.de/event/freie-waehler-btw-2025-nominierungsveranstaltung-wahlkreis-280-calw
LOCATION:Bürgertreff im Rathaus\, Im Klösterle 4\, Calw-Holzbronn\, 75365
CATEGORIES:Nominierungsversammlung
END:VEVENT
BEGIN:VEVENT
DTSTART;TZID=Europe/Berlin:20241211T190000
DTEND;TZID=Europe/Berlin:20241211T200000
DTSTAMP:20260422T200927
CREATED:20241203T190412Z
LAST-MODIFIED:20241203T191247Z
UID:9563-1733943600-1733947200@freiewaehler-bw.de
SUMMARY:FREIE WÄHLER BTW 2025 Nominierungsveranstaltung WK 290 - Tübingen
DESCRIPTION:Wir laden alle Mitglieder des Wahlkreises 290 – Tübingen herzlich zur Nominierungsveranstaltung für die Bundestagswahl ein. Sie findet am Mittwoch\, den 11. Dezember 2024 um 19:00 Uhr in der Pizzeria Ristorante Schwanen\, Bahnhofstraße 4 in 72379 Hechingen\, statt.
URL:https://freiewaehler-bw.de/event/freie-waehler-btw-2025-nominierungsveranstaltung-wahlkreis-290-tuebingen
LOCATION:Pizzeria Ristorante Schwanen\, Bahnhofstraße 4\, Hechingen\, 72379
CATEGORIES:Nominierungsversammlung
END:VEVENT
BEGIN:VEVENT
DTSTART;TZID=Europe/Berlin:20241216T170000
DTEND;TZID=Europe/Berlin:20241216T180000
DTSTAMP:20260422T200927
CREATED:20241203T191110Z
LAST-MODIFIED:20241203T191132Z
UID:9567-1734368400-1734372000@freiewaehler-bw.de
SUMMARY:FREIE WÄHLER BTW 2025 Nominierungsveranstaltung WK 274 - Heidelberg
DESCRIPTION:Wir laden alle Mitglieder des Wahlkreises 274 – Heidelberg herzlich zur Nominierungsveranstaltung für die Bundestagswahl ein. Sie findet am Montag\, den 16. Dezember 2024 um 17:00 Uhr in 68526 Ladenburg\, statt. Genaue Adresse ist über die Geschäftsstelle zu erfahren.
URL:https://freiewaehler-bw.de/event/freie-waehler-btw-2025-nominierungsveranstaltung-wk-274-heidelberg
CATEGORIES:Nominierungsversammlung
END:VEVENT
BEGIN:VEVENT
DTSTART;TZID=Europe/Berlin:20241217T110000
DTEND;TZID=Europe/Berlin:20241217T120000
DTSTAMP:20260422T200927
CREATED:20241203T191948Z
LAST-MODIFIED:20241203T191948Z
UID:9571-1734433200-1734436800@freiewaehler-bw.de
SUMMARY:FREIE WÄHLER BTW 2025 Nominierungsveranstaltung WK 287 - Konstanz
DESCRIPTION:Wir laden alle Mitglieder des Wahlkreises 287 – Konstanz herzlich zur Nominierungsveranstaltung für die Bundestagswahl ein. Sie findet am Dienstag\, den 17. Dezember 2024 um 11:00 Uhr im Landgasthaus Sternen\, Friedenstraße 3\, 78269 Volkertshausen\, statt.
URL:https://freiewaehler-bw.de/event/freie-waehler-btw-2025-nominierungsveranstaltung-wk-287-konstanz
LOCATION:Landgasthaus Sternen\, Friedenstraße 3\, Volkertshausen\, 78269
CATEGORIES:Nominierungsversammlung
END:VEVENT
BEGIN:VEVENT
DTSTART;TZID=Europe/Berlin:20241217T183000
DTEND;TZID=Europe/Berlin:20241217T193000
DTSTAMP:20260422T200927
CREATED:20241210T062734Z
LAST-MODIFIED:20241210T062734Z
UID:9586-1734460200-1734463800@freiewaehler-bw.de
SUMMARY:FREIE WÄHLER BTW 2025 Nominierungsveranstaltung Wahlkreis 265 - Ludwigsburg
DESCRIPTION:Wir laden alle Mitglieder des Wahlkreises 265 – Ludwigsburg herzlich zur Nominierungsveranstaltung für die Bundestagswahl ein. Sie findet am Dienstag\, den 17. Dezember 2024 um 19:30 Uhr in „Die blaue Agave“\nWilhelm-Bleyle-Straße 7-9 in 71636 Ludwigsburg\, statt.
URL:https://freiewaehler-bw.de/event/freie-waehler-btw-2025-nominierungsveranstaltung-wahlkreis-265-ludwigsburg
LOCATION:Die blaue Agave\, Wilhelm-Bleyle-Straße 7-9\, Ludwigsburg\, 71636
CATEGORIES:Nominierungsversammlung
END:VEVENT
BEGIN:VEVENT
DTSTART;TZID=Europe/Berlin:20241218T190000
DTEND;TZID=Europe/Berlin:20241218T200000
DTSTAMP:20260422T200927
CREATED:20241203T192615Z
LAST-MODIFIED:20241203T192742Z
UID:9574-1734548400-1734552000@freiewaehler-bw.de
SUMMARY:FREIE WÄHLER BTW 2025 Nominierungsveranstaltung WK 292 - Biberach
DESCRIPTION:Wir laden alle Mitglieder des Wahlkreises 273 – Rastatt herzlich zur Nominierungsveranstaltung für die Bundestagswahl ein. Sie findet am Mittwoch\, den 18. Dezember 2024 um 19:00 Uhr in Pflugkeller Biberach\, Friedrich-Goll-Weg 6\, 88400 Biberach an der Riß\, statt.
URL:https://freiewaehler-bw.de/event/freie-waehler-btw-2025-nominierungsveranstaltung-wk-292-biberach
LOCATION:Pflugkeller Biberach\, Friedrich-Goll-Weg 6\, Biberach an der Riß\, 88400
CATEGORIES:Nominierungsversammlung
END:VEVENT
BEGIN:VEVENT
DTSTART;TZID=Europe/Berlin:20241220T180000
DTEND;TZID=Europe/Berlin:20241220T190000
DTSTAMP:20260422T200927
CREATED:20241210T063154Z
LAST-MODIFIED:20241210T063154Z
UID:9589-1734717600-1734721200@freiewaehler-bw.de
SUMMARY:FREIE WÄHLER BTW 2025 Nominierungsveranstaltung Wahlkreis 282 - Lörrach-Müllheim
DESCRIPTION:Wir laden alle Mitglieder des Wahlkreises 282 – Lörrach-Müllheim herzlich zur Nominierungsveranstaltung für die Bundestagswahl ein. Sie findet am Freitag\, den 20. Dezember 2024 um 18:00 Uhr in der Rathausstube\nAm Rathausplatz 6\, 79589 Binzen\, statt.
URL:https://freiewaehler-bw.de/event/freie-waehler-btw-2025-nominierungsveranstaltung-wahlkreis-282-loerrach-muellheim
LOCATION:Rathausstube\, Am Rathausplatz 6\, Binzen\, 79589
CATEGORIES:Nominierungsversammlung
END:VEVENT
BEGIN:VEVENT
DTSTART;TZID=Europe/Berlin:20241227T180000
DTEND;TZID=Europe/Berlin:20241227T190000
DTSTAMP:20260422T200927
CREATED:20241211T062600Z
LAST-MODIFIED:20241211T062600Z
UID:9599-1735322400-1735326000@freiewaehler-bw.de
SUMMARY:FREIE WÄHLER BTW 2025 Nominierungsveranstaltung WK 295 - Zollernalb-Sigmaringen
DESCRIPTION:Wir laden alle Mitglieder des Wahlkreises 295 – Zollernalb-Sigmaringen herzlich zur Nominierungsveranstaltung für die Bundestagswahl ein. Sie findet am Freitag\, den 27. Dezember 2024 um 18:00 Uhr im Brauwerk Zoller-Hof\nFürst-Wilhelm-Straße 5-7 in 72488 Sigmaringen\, statt.
URL:https://freiewaehler-bw.de/event/freie-waehler-btw-2025-nominierungsveranstaltung-wk-295-zollernalb-sigmaringen
LOCATION:Brauwerk Zoller-Hof\, Fürst-Wilhelm-Straße 5-7\, Sigmaringen\, 72488
CATEGORIES:Nominierungsversammlung
END:VEVENT
END:VCALENDAR