BEGIN:VCALENDAR
VERSION:2.0
PRODID:-//Freie Wähler Baden-Württemberg - ECPv6.15.20//NONSGML v1.0//EN
CALSCALE:GREGORIAN
METHOD:PUBLISH
X-WR-CALNAME:Freie Wähler Baden-Württemberg
X-ORIGINAL-URL:https://freiewaehler-bw.de
X-WR-CALDESC:Veranstaltungen für Freie Wähler Baden-Württemberg
REFRESH-INTERVAL;VALUE=DURATION:PT1H
X-Robots-Tag:noindex
X-PUBLISHED-TTL:PT1H
BEGIN:VTIMEZONE
TZID:Europe/Berlin
BEGIN:DAYLIGHT
TZOFFSETFROM:+0100
TZOFFSETTO:+0200
TZNAME:CEST
DTSTART:20240331T010000
END:DAYLIGHT
BEGIN:STANDARD
TZOFFSETFROM:+0200
TZOFFSETTO:+0100
TZNAME:CET
DTSTART:20241027T010000
END:STANDARD
BEGIN:DAYLIGHT
TZOFFSETFROM:+0100
TZOFFSETTO:+0200
TZNAME:CEST
DTSTART:20250330T010000
END:DAYLIGHT
BEGIN:STANDARD
TZOFFSETFROM:+0200
TZOFFSETTO:+0100
TZNAME:CET
DTSTART:20251026T010000
END:STANDARD
BEGIN:DAYLIGHT
TZOFFSETFROM:+0100
TZOFFSETTO:+0200
TZNAME:CEST
DTSTART:20260329T010000
END:DAYLIGHT
BEGIN:STANDARD
TZOFFSETFROM:+0200
TZOFFSETTO:+0100
TZNAME:CET
DTSTART:20261025T010000
END:STANDARD
END:VTIMEZONE
BEGIN:VEVENT
DTSTART;TZID=Europe/Berlin:20250113T190000
DTEND;TZID=Europe/Berlin:20250113T210000
DTSTAMP:20260422T182845
CREATED:20241210T062046Z
LAST-MODIFIED:20241210T062758Z
UID:9584-1736794800-1736802000@freiewaehler-bw.de
SUMMARY:Arbeitskreis "Ländlicher Raum"
DESCRIPTION:Die nächste turnusmäßige Online-Sitzung des Arbeitskreises (AK) „Ländlicher Raum“ findet am Montag\, den 13. Januar 2025 um 19:00 Uhr statt. Die Zugangsdaten für Interessierte sind über die Geschäftsstelle zu erhalten.
URL:https://freiewaehler-bw.de/event/arbeitskreis-laendlicher-raum-4
LOCATION:Online
CATEGORIES:Arbeitskreise
END:VEVENT
BEGIN:VEVENT
DTSTART;TZID=Europe/Berlin:20250114T190000
DTEND;TZID=Europe/Berlin:20250114T200000
DTSTAMP:20260422T182845
CREATED:20241210T064542Z
LAST-MODIFIED:20250111T122317Z
UID:9596-1736881200-1736884800@freiewaehler-bw.de
SUMMARY:FREIE WÄHLER BTW 2025 Nominierungsveranstaltung Wahlkreis 281 - Freiburg
DESCRIPTION:Wir laden alle Mitglieder des Wahlkreises 281 – Freiburg herzlich zur Nominierungsveranstaltung für die Bundestagswahl ein. Sie findet am Dienstag\, den 14. Januar 2025 um 19:00 Uhr im Tasting Room\, Schulstraße 28 in 79288 Gottenheim statt.
URL:https://freiewaehler-bw.de/event/freie-waehler-btw-2025-nominierungsveranstaltung-wahlkreis-281-freiburg
LOCATION:Tasting Room\, Schulstraße 28\, Gottenheim\, 79288
CATEGORIES:Nominierungsversammlung
END:VEVENT
END:VCALENDAR