BEGIN:VCALENDAR
VERSION:2.0
PRODID:-//Freie Wähler Baden-Württemberg - ECPv6.15.20//NONSGML v1.0//EN
CALSCALE:GREGORIAN
METHOD:PUBLISH
X-ORIGINAL-URL:https://freiewaehler-bw.de
X-WR-CALDESC:Veranstaltungen für Freie Wähler Baden-Württemberg
REFRESH-INTERVAL;VALUE=DURATION:PT1H
X-Robots-Tag:noindex
X-PUBLISHED-TTL:PT1H
BEGIN:VTIMEZONE
TZID:Europe/Berlin
BEGIN:DAYLIGHT
TZOFFSETFROM:+0100
TZOFFSETTO:+0200
TZNAME:CEST
DTSTART:20240331T010000
END:DAYLIGHT
BEGIN:STANDARD
TZOFFSETFROM:+0200
TZOFFSETTO:+0100
TZNAME:CET
DTSTART:20241027T010000
END:STANDARD
BEGIN:DAYLIGHT
TZOFFSETFROM:+0100
TZOFFSETTO:+0200
TZNAME:CEST
DTSTART:20250330T010000
END:DAYLIGHT
BEGIN:STANDARD
TZOFFSETFROM:+0200
TZOFFSETTO:+0100
TZNAME:CET
DTSTART:20251026T010000
END:STANDARD
BEGIN:DAYLIGHT
TZOFFSETFROM:+0100
TZOFFSETTO:+0200
TZNAME:CEST
DTSTART:20260329T010000
END:DAYLIGHT
BEGIN:STANDARD
TZOFFSETFROM:+0200
TZOFFSETTO:+0100
TZNAME:CET
DTSTART:20261025T010000
END:STANDARD
END:VTIMEZONE
BEGIN:VEVENT
DTSTART;TZID=Europe/Berlin:20250201T160000
DTEND;TZID=Europe/Berlin:20250201T180000
DTSTAMP:20260422T164852
CREATED:20241211T063223Z
LAST-MODIFIED:20250204T064351Z
UID:9602-1738425600-1738432800@freiewaehler-bw.de
SUMMARY:FREIE WÄHLER Bezirksparteitag Nordwürttemberg
DESCRIPTION:Der nächste FREIE WÄHLER Bezirksparteitag Nordwürttemberg findet am Samstag\, den 01.02.2025 um 16:00 Uhr im Steinbrunnenzentrum in Ilshofen statt. Alle Mitglieder und interessierte Gäste sind herzlich eingeladen.
URL:https://freiewaehler-bw.de/event/freie-waehler-bezirksparteitag-nordwuerttemberg-save-the-date
CATEGORIES:Bezirksparteitag
END:VEVENT
END:VCALENDAR